BEGIN:VCALENDAR
VERSION:2.0
PRODID:-//Geloof in de Zaak - ECPv6.15.18//NONSGML v1.0//EN
CALSCALE:GREGORIAN
METHOD:PUBLISH
X-ORIGINAL-URL:https://geloofindezaak.org
X-WR-CALDESC:Evenementen voor Geloof in de Zaak
REFRESH-INTERVAL;VALUE=DURATION:PT1H
X-Robots-Tag:noindex
X-PUBLISHED-TTL:PT1H
BEGIN:VTIMEZONE
TZID:Europe/Amsterdam
BEGIN:DAYLIGHT
TZOFFSETFROM:+0100
TZOFFSETTO:+0200
TZNAME:CEST
DTSTART:20240331T010000
END:DAYLIGHT
BEGIN:STANDARD
TZOFFSETFROM:+0200
TZOFFSETTO:+0100
TZNAME:CET
DTSTART:20241027T010000
END:STANDARD
BEGIN:DAYLIGHT
TZOFFSETFROM:+0100
TZOFFSETTO:+0200
TZNAME:CEST
DTSTART:20250330T010000
END:DAYLIGHT
BEGIN:STANDARD
TZOFFSETFROM:+0200
TZOFFSETTO:+0100
TZNAME:CET
DTSTART:20251026T010000
END:STANDARD
BEGIN:DAYLIGHT
TZOFFSETFROM:+0100
TZOFFSETTO:+0200
TZNAME:CEST
DTSTART:20260329T010000
END:DAYLIGHT
BEGIN:STANDARD
TZOFFSETFROM:+0200
TZOFFSETTO:+0100
TZNAME:CET
DTSTART:20261025T010000
END:STANDARD
END:VTIMEZONE
BEGIN:VEVENT
DTSTART;TZID=Europe/Amsterdam:20250314T073000
DTEND;TZID=Europe/Amsterdam:20250314T100000
DTSTAMP:20260422T003050
CREATED:20250226T112405Z
LAST-MODIFIED:20250312T134553Z
UID:1212-1741937400-1741946400@geloofindezaak.org
SUMMARY:Netwerkbijeenkomst | 14 maart 2025 met Jonathan Nolan
DESCRIPTION:“Op een ontspannen manier getuigen van Jezus door je bedrijf heen.”\n\n\n\nHoe kun je op een ontspannen manier getuigen over Jezus in je business\, zodat er discipelen gemaakt worden? Aan de hand van persoonlijke verhalen uit zijn eigen leven en vanuit zijn werk in Afrika en Azië om gemeentestichters te trainen om bedrijven te starten\, neemt Jonathan je op een interactieve manier mee hoe je kunt getuigen en hoe je in gesprek komt\, zonder dat het ongemakkelijk wordt.\n\n\nJonathan Nolan is International Business Director en International Leadership team member van All Nations International. Sinds 2018 traint en coacht hij\, samen met zijn team\, mensen die discipelen maken en kerken starten in onbereikte gebieden in Afrika\, Azië en het Midden-Oosten om Kingdom businesses op te starten. Door deze bedrijven worden nieuwe kerken gestart EN worden de kerkplanters zelfvoorzienend.\n\n\n\nSinds 2009 heeft hij zelf allerlei bedrijven gestart in binnen en buitenland\, voornamelijk in de online marketing/sales en business coaching. Zijn grootste passie is een beweging te zien ontstaan van huiskerken onder de onbereikte bevolkingsgroepen van de aarde.\n\nhttps://allnationsnederland.nl\nhttps://businessformovements.org\nhttps://pioneerbusinessplanting.org\nhttps://www.linkedin.com/in/jonathannolan7/\n\n\n\n3\,4 miljard mensen in de wereld hebben geen toegang tot een lokale kerk of hebben nog nooit van Jezus gehoord. Hoe kunnen we business gebruiken om het evangelie brengen bij deze onbereikte gebieden? Aan de hand van verhalen vanuit zijn reizen naar Afrika\, Azië en het Midden-Oosten vertelt Jonathan hoe hij lokale mensen die discipelen maken\, helpt hun eigen Kingdom businesses te starten en te groeien. Training\, coaching en het opstarten van FaithFunds (microkredieten) zorgen voor lokale leiders die door hun bedrijven complete transformatie zien in hun gezinnen en gemeenschappen.
URL:https://geloofindezaak.org/event/netwerkbijeenkomst-14-maart-2025-met-jonathan-nolan/
CATEGORIES:Netwerkbijeenkomsten Heerhugowaard
ATTACH;FMTTYPE=image/png:https://geloofindezaak.org/wp-content/uploads/2025/02/uitnodiging-maart-2025-3.png
ORGANIZER;CN="Deborah Vroegop":MAILTO:info@geloofindezaak.org
END:VEVENT
END:VCALENDAR