BEGIN:VCALENDAR
VERSION:2.0
PRODID:-//Geloof in de Zaak - ECPv6.15.18//NONSGML v1.0//EN
CALSCALE:GREGORIAN
METHOD:PUBLISH
X-ORIGINAL-URL:https://geloofindezaak.org
X-WR-CALDESC:Evenementen voor Geloof in de Zaak
REFRESH-INTERVAL;VALUE=DURATION:PT1H
X-Robots-Tag:noindex
X-PUBLISHED-TTL:PT1H
BEGIN:VTIMEZONE
TZID:Europe/Amsterdam
BEGIN:DAYLIGHT
TZOFFSETFROM:+0100
TZOFFSETTO:+0200
TZNAME:CEST
DTSTART:20230326T010000
END:DAYLIGHT
BEGIN:STANDARD
TZOFFSETFROM:+0200
TZOFFSETTO:+0100
TZNAME:CET
DTSTART:20231029T010000
END:STANDARD
BEGIN:DAYLIGHT
TZOFFSETFROM:+0100
TZOFFSETTO:+0200
TZNAME:CEST
DTSTART:20240331T010000
END:DAYLIGHT
BEGIN:STANDARD
TZOFFSETFROM:+0200
TZOFFSETTO:+0100
TZNAME:CET
DTSTART:20241027T010000
END:STANDARD
BEGIN:DAYLIGHT
TZOFFSETFROM:+0100
TZOFFSETTO:+0200
TZNAME:CEST
DTSTART:20250330T010000
END:DAYLIGHT
BEGIN:STANDARD
TZOFFSETFROM:+0200
TZOFFSETTO:+0100
TZNAME:CET
DTSTART:20251026T010000
END:STANDARD
END:VTIMEZONE
BEGIN:VEVENT
DTSTART;TZID=Europe/Amsterdam:20241108T073000
DTEND;TZID=Europe/Amsterdam:20241108T100000
DTSTAMP:20260422T101227
CREATED:20240902T093335Z
LAST-MODIFIED:20241016T113326Z
UID:1174-1731051000-1731060000@geloofindezaak.org
SUMMARY:Netwerkbijeenkomst | 8 november 2024 met Jesse Borst
DESCRIPTION:Wij nodigen je uit voor ons netwerkontbijt van 8 november. \nJesse Borst zal deze ochtend komen spreken. Hij heeft met zijn vrouw Wytske een boek geschreven: ‘Meer rijk\, minder dom’ en stelt: “Als je niet de regie pakt over geld\, pakt geld de regie over jou.” Hij komt ons deze ochtend enkele principes uitleggen over geld. Dit doet hij aan de hand van zijn 15-stappenplan: van armoede naar familierijkdom. Geld is invloed en hoe kun je een positieve invloed hebben op het leven van anderen? \nJesse heeft jaren gewerkt als professioneel belegger bij grote financiële instellingen\, zoals Goldman Sachs en heeft nu een eigen onderneming die zich focust op financiële educatie. Hij is elke woensdagavond met zijn vrouw te horen op GOD Radio in het programma Money Principles\, waar ze luisteraars leren over verstandig omgaan met geld en wat de Bijbel leert over rijkdom. Zie ook https://moneyprinciples.nl \nOok als je nog niet zoveel met de bijbel hebt\, is deze ochtend zeer leerzaam en inspirerend\, dus schroom niet om een niet gelovige ondernemer mee te nemen. Introducees zijn gratis! \nWil je hierbij zijn? Geef je dan op voor 6 november via info@geloofindezaak.org \nPS Verspreid deze flyer in je netwerk en op je socials\, zodat nog meer ondernemers bemoedigd\, geïnspireerd en versterkt mogen worden. \n  \nIntroducees gratis! \n  \nElke tweede vrijdag van de maand.
URL:https://geloofindezaak.org/event/netwerkbijeenkomst-8-november-2024/
CATEGORIES:Netwerkbijeenkomsten Heerhugowaard
ATTACH;FMTTYPE=image/png:https://geloofindezaak.org/wp-content/uploads/2024/09/uitnodiging-november-2024.png
ORGANIZER;CN="Deborah Vroegop":MAILTO:info@geloofindezaak.org
END:VEVENT
END:VCALENDAR