BEGIN:VCALENDAR
VERSION:2.0
PRODID:-//Geloof in de Zaak - ECPv6.15.18//NONSGML v1.0//EN
CALSCALE:GREGORIAN
METHOD:PUBLISH
X-ORIGINAL-URL:https://geloofindezaak.org
X-WR-CALDESC:Evenementen voor Geloof in de Zaak
REFRESH-INTERVAL;VALUE=DURATION:PT1H
X-Robots-Tag:noindex
X-PUBLISHED-TTL:PT1H
BEGIN:VTIMEZONE
TZID:Europe/Amsterdam
BEGIN:DAYLIGHT
TZOFFSETFROM:+0100
TZOFFSETTO:+0200
TZNAME:CEST
DTSTART:20230326T010000
END:DAYLIGHT
BEGIN:STANDARD
TZOFFSETFROM:+0200
TZOFFSETTO:+0100
TZNAME:CET
DTSTART:20231029T010000
END:STANDARD
BEGIN:DAYLIGHT
TZOFFSETFROM:+0100
TZOFFSETTO:+0200
TZNAME:CEST
DTSTART:20240331T010000
END:DAYLIGHT
BEGIN:STANDARD
TZOFFSETFROM:+0200
TZOFFSETTO:+0100
TZNAME:CET
DTSTART:20241027T010000
END:STANDARD
BEGIN:DAYLIGHT
TZOFFSETFROM:+0100
TZOFFSETTO:+0200
TZNAME:CEST
DTSTART:20250330T010000
END:DAYLIGHT
BEGIN:STANDARD
TZOFFSETFROM:+0200
TZOFFSETTO:+0100
TZNAME:CET
DTSTART:20251026T010000
END:STANDARD
END:VTIMEZONE
BEGIN:VEVENT
DTSTART;TZID=Europe/Amsterdam:20240913T073000
DTEND;TZID=Europe/Amsterdam:20240913T100000
DTSTAMP:20260422T134411
CREATED:20240902T092651Z
LAST-MODIFIED:20240902T092651Z
UID:1168-1726212600-1726221600@geloofindezaak.org
SUMMARY:Netwerkbijeenkomst | 13 september 2024 met Jannie Kloosterman
DESCRIPTION:We hopen dat je genoten hebt van een goede vakantieperiode en opgeladen bent door Hem\, Zijn schepping en tijd met je familie en vrienden.\n\n\nWij zijn ook weer klaar voor het nieuwe seizoen van Geloof in de Zaak!\n\n\n\nWe zijn blij dat Jannie Kloosterman\, net als vorig jaar dit seizoen met ons wil starten. Op ons YouTube kanaal kun je haar spreekbeurt terugluisteren. Zeer de moeite waard!\nhttps://youtu.be/d51DvaB_h1o?si=KeJMY5eSbr0UXant\n\n\n\nDit seizoen komen we elke tweede vrijdag van de maand bij elkaar\, dus markeer ze alvast in je agenda.\n\n\nWe willen toegankelijker zijn voor de (nog) niet gelovige ondernemers\, dus krijg je iemand op je hart\, schroom niet hem of haar uit te nodigen.\n\n\nIntroducees zijn vanaf nu gratis.\n\n\n\nWe hopen je vrijdag 13 september te zien!\n\n\n\nGods zegen\,\n\n\nJosé\, Jaap en Deborah\n\n\n\nPS Help ons het bereik van GidZ te vergroten door deze flyer te verspreiden in je netwerk en op social media.\n\nZie flyer voor verder info. \n#geloofindezaak #christelijkondernemersnetwerk #christelijkondernemen#ondernemersnetwerk #netwerken 
URL:https://geloofindezaak.org/event/netwerkbijeenkomst-13-september-2024-met-jannie-kloosterman/
CATEGORIES:Netwerkbijeenkomsten Heerhugowaard
ATTACH;FMTTYPE=image/png:https://geloofindezaak.org/wp-content/uploads/2024/09/uitnodiging-september-2024.png
ORGANIZER;CN="Deborah Vroegop":MAILTO:info@geloofindezaak.org
END:VEVENT
END:VCALENDAR