BEGIN:VCALENDAR
VERSION:2.0
PRODID:-//Geloof in de Zaak - ECPv6.15.18//NONSGML v1.0//EN
CALSCALE:GREGORIAN
METHOD:PUBLISH
X-ORIGINAL-URL:https://geloofindezaak.org
X-WR-CALDESC:Evenementen voor Geloof in de Zaak
REFRESH-INTERVAL;VALUE=DURATION:PT1H
X-Robots-Tag:noindex
X-PUBLISHED-TTL:PT1H
BEGIN:VTIMEZONE
TZID:Europe/Amsterdam
BEGIN:DAYLIGHT
TZOFFSETFROM:+0100
TZOFFSETTO:+0200
TZNAME:CEST
DTSTART:20230326T010000
END:DAYLIGHT
BEGIN:STANDARD
TZOFFSETFROM:+0200
TZOFFSETTO:+0100
TZNAME:CET
DTSTART:20231029T010000
END:STANDARD
BEGIN:DAYLIGHT
TZOFFSETFROM:+0100
TZOFFSETTO:+0200
TZNAME:CEST
DTSTART:20240331T010000
END:DAYLIGHT
BEGIN:STANDARD
TZOFFSETFROM:+0200
TZOFFSETTO:+0100
TZNAME:CET
DTSTART:20241027T010000
END:STANDARD
BEGIN:DAYLIGHT
TZOFFSETFROM:+0100
TZOFFSETTO:+0200
TZNAME:CEST
DTSTART:20250330T010000
END:DAYLIGHT
BEGIN:STANDARD
TZOFFSETFROM:+0200
TZOFFSETTO:+0100
TZNAME:CET
DTSTART:20251026T010000
END:STANDARD
END:VTIMEZONE
BEGIN:VEVENT
DTSTART;TZID=Europe/Amsterdam:20240315T073000
DTEND;TZID=Europe/Amsterdam:20240315T100000
DTSTAMP:20260423T003206
CREATED:20231005T151201Z
LAST-MODIFIED:20240227T115226Z
UID:971-1710487800-1710496800@geloofindezaak.org
SUMMARY:Netwerkbijeenkomst | 15 maart met Arie de Rover
DESCRIPTION:Arie de Rover (1961) getrouwd met Joke\, vader van 5 kinderen en opa van 8 kleinkinderen. In het dagelijks leven counselor\, spreker en schrijver van boeken en columns. \nHet jaarthema van GidZ is Koninklijk Ondernemen en vanmorgen zal Arie spreken over ‘Ondernemen is een zware beproeving.’
URL:https://geloofindezaak.org/event/netwerkbijeenkomst-15-maart-met-arie-de-rover/
CATEGORIES:Netwerkbijeenkomsten Heerhugowaard
ATTACH;FMTTYPE=image/png:https://geloofindezaak.org/wp-content/uploads/2023/10/uitnodiging-maart-2024.png
ORGANIZER;CN="Deborah Vroegop":MAILTO:info@geloofindezaak.org
END:VEVENT
BEGIN:VEVENT
DTSTART;TZID=Europe/Amsterdam:20240330T073000
DTEND;TZID=Europe/Amsterdam:20240330T100000
DTSTAMP:20260423T003206
CREATED:20240203T161830Z
LAST-MODIFIED:20240203T161830Z
UID:1128-1711783800-1711792800@geloofindezaak.org
SUMMARY:Netwerkbijeenkomst | 30 maart
DESCRIPTION:
URL:https://geloofindezaak.org/event/netwerkbijeenkomst-30-maart/
CATEGORIES:Netwerkbijeenkomsten Almere
END:VEVENT
END:VCALENDAR