BEGIN:VCALENDAR
VERSION:2.0
PRODID:-//Geloof in de Zaak - ECPv6.15.18//NONSGML v1.0//EN
CALSCALE:GREGORIAN
METHOD:PUBLISH
X-ORIGINAL-URL:https://geloofindezaak.org
X-WR-CALDESC:Evenementen voor Geloof in de Zaak
REFRESH-INTERVAL;VALUE=DURATION:PT1H
X-Robots-Tag:noindex
X-PUBLISHED-TTL:PT1H
BEGIN:VTIMEZONE
TZID:Europe/Amsterdam
BEGIN:DAYLIGHT
TZOFFSETFROM:+0100
TZOFFSETTO:+0200
TZNAME:CEST
DTSTART:20230326T010000
END:DAYLIGHT
BEGIN:STANDARD
TZOFFSETFROM:+0200
TZOFFSETTO:+0100
TZNAME:CET
DTSTART:20231029T010000
END:STANDARD
BEGIN:DAYLIGHT
TZOFFSETFROM:+0100
TZOFFSETTO:+0200
TZNAME:CEST
DTSTART:20240331T010000
END:DAYLIGHT
BEGIN:STANDARD
TZOFFSETFROM:+0200
TZOFFSETTO:+0100
TZNAME:CET
DTSTART:20241027T010000
END:STANDARD
BEGIN:DAYLIGHT
TZOFFSETFROM:+0100
TZOFFSETTO:+0200
TZNAME:CEST
DTSTART:20250330T010000
END:DAYLIGHT
BEGIN:STANDARD
TZOFFSETFROM:+0200
TZOFFSETTO:+0100
TZNAME:CET
DTSTART:20251026T010000
END:STANDARD
END:VTIMEZONE
BEGIN:VEVENT
DTSTART;TZID=Europe/Amsterdam:20240216T073000
DTEND;TZID=Europe/Amsterdam:20240216T100000
DTSTAMP:20260423T021359
CREATED:20231005T151104Z
LAST-MODIFIED:20240130T160834Z
UID:969-1708068600-1708077600@geloofindezaak.org
SUMMARY:Netwerkbijeenkomst | 16 februari met Stephan Barendse
DESCRIPTION:Deze ochtend zal Stephan Barendse ons komen inspireren\, versterken en bemoedigen. \nStephan is de zoon van een Nederlands zendelingenechtpaar en geboren in Duitsland. In Amerika heeft hij zijn bachelordiploma in theologie gehaald. Stephan heeft meer dan 20 jaar bedieningservaring\, specifiek met de bediening van Teen Challenge (TC). Sinds 2010 is hij landelijk directeur van TC Nederland en evangelist. Hij is bestuurslid van de Europe TC en actief in het ETC-leiderschapsteam. Stephan is getrouwd met Marianne (Pasterkamp) en heeft een zoon van 4 jaar\, Tim. \nHet jaarthema van GidZ is Koninklijk Ondernemen en vanmorgen zal Stephan spreken over hoe hij dat doet samen met de Heilige Geest. \nWil je hierbij zijn? Geef je dan op voor 14 februari. (Zie flyer.) \nGods zegen\, \nTeam Geloof in de Zaak: \nJosé\, Jaap\, Dick en Deborah
URL:https://geloofindezaak.org/event/netwerkbijeenkomst-16-februari/
CATEGORIES:Netwerkbijeenkomsten Heerhugowaard
ATTACH;FMTTYPE=image/png:https://geloofindezaak.org/wp-content/uploads/2023/10/uitnodiging-februari-2024.png
ORGANIZER;CN="Deborah Vroegop":MAILTO:info@geloofindezaak.org
END:VEVENT
BEGIN:VEVENT
DTSTART;TZID=Europe/Amsterdam:20240217T073000
DTEND;TZID=Europe/Amsterdam:20240217T100000
DTSTAMP:20260423T021359
CREATED:20240203T160737Z
LAST-MODIFIED:20240203T160758Z
UID:1120-1708155000-1708164000@geloofindezaak.org
SUMMARY:Netwerkbijeenkomst | 17 februari met Deborah Vroegop
DESCRIPTION:
URL:https://geloofindezaak.org/event/netwerkbijeenkomst-17-februari-met-deborah-vroegop/
CATEGORIES:Netwerkbijeenkomsten Almere
ATTACH;FMTTYPE=image/jpeg:https://geloofindezaak.org/wp-content/uploads/2024/02/flyer-Almere.jpeg
END:VEVENT
BEGIN:VEVENT
DTSTART;TZID=Europe/Amsterdam:20240226T073000
DTEND;TZID=Europe/Amsterdam:20240226T093000
DTSTAMP:20260423T021359
CREATED:20231202T145657Z
LAST-MODIFIED:20231215T142328Z
UID:1045-1708932600-1708939800@geloofindezaak.org
SUMMARY:Netwerkbijeenkomst | 26 februari
DESCRIPTION:meer info volgt
URL:https://geloofindezaak.org/event/netwerkbijeenkomst-26-februari/
CATEGORIES:Netwerkbijeenkomsten Delft
ATTACH;FMTTYPE=image/png:https://geloofindezaak.org/wp-content/uploads/2023/03/LOGO_GIDZ_POSITIEF_1-2-scaled.png
END:VEVENT
END:VCALENDAR