BEGIN:VCALENDAR
VERSION:2.0
PRODID:-//Geloof in de Zaak - ECPv6.15.18//NONSGML v1.0//EN
CALSCALE:GREGORIAN
METHOD:PUBLISH
X-ORIGINAL-URL:https://geloofindezaak.org
X-WR-CALDESC:Evenementen voor Geloof in de Zaak
REFRESH-INTERVAL;VALUE=DURATION:PT1H
X-Robots-Tag:noindex
X-PUBLISHED-TTL:PT1H
BEGIN:VTIMEZONE
TZID:Europe/Amsterdam
BEGIN:DAYLIGHT
TZOFFSETFROM:+0100
TZOFFSETTO:+0200
TZNAME:CEST
DTSTART:20230326T010000
END:DAYLIGHT
BEGIN:STANDARD
TZOFFSETFROM:+0200
TZOFFSETTO:+0100
TZNAME:CET
DTSTART:20231029T010000
END:STANDARD
BEGIN:DAYLIGHT
TZOFFSETFROM:+0100
TZOFFSETTO:+0200
TZNAME:CEST
DTSTART:20240331T010000
END:DAYLIGHT
BEGIN:STANDARD
TZOFFSETFROM:+0200
TZOFFSETTO:+0100
TZNAME:CET
DTSTART:20241027T010000
END:STANDARD
BEGIN:DAYLIGHT
TZOFFSETFROM:+0100
TZOFFSETTO:+0200
TZNAME:CEST
DTSTART:20250330T010000
END:DAYLIGHT
BEGIN:STANDARD
TZOFFSETFROM:+0200
TZOFFSETTO:+0100
TZNAME:CET
DTSTART:20251026T010000
END:STANDARD
END:VTIMEZONE
BEGIN:VEVENT
DTSTART;TZID=Europe/Amsterdam:20240115T073000
DTEND;TZID=Europe/Amsterdam:20240115T093000
DTSTAMP:20260423T034610
CREATED:20231202T145138Z
LAST-MODIFIED:20231202T145330Z
UID:1041-1705303800-1705311000@geloofindezaak.org
SUMMARY:Netwerkbijeenkomst | 15 januari
DESCRIPTION:meer info volgt
URL:https://geloofindezaak.org/event/netwerkbijeenkomst-15-januari/
CATEGORIES:Netwerkbijeenkomsten Delft
ATTACH;FMTTYPE=image/png:https://geloofindezaak.org/wp-content/uploads/2023/03/LOGO_GIDZ_POSITIEF_1-2-scaled.png
END:VEVENT
BEGIN:VEVENT
DTSTART;TZID=Europe/Amsterdam:20240119T073000
DTEND;TZID=Europe/Amsterdam:20240119T100000
DTSTAMP:20260423T034610
CREATED:20231005T150941Z
LAST-MODIFIED:20231227T134054Z
UID:967-1705649400-1705658400@geloofindezaak.org
SUMMARY:Netwerkbijeenkomst | met Theunus Herder
DESCRIPTION:Begin 2024 goed en ontvang een profetie voor jou persoonlijk en/of voor je bedrijf. \nTheunus Herder komt ons met een profetisch team bedienen. \nTheunus komt uit Purmerend en heeft een profetische bediening. Hij is spreker\, profeet en leraar \nen spreekt regelmatig in gemeentes. \nVoordat Theunus gaat profeteren zal hij spreken over ‘Geestelijke gave en bediening in de praktijk’. \nwww.theunusherder.nl
URL:https://geloofindezaak.org/event/netwerkbijeenkomst-met-theunis-herder/
CATEGORIES:Netwerkbijeenkomsten Heerhugowaard
ATTACH;FMTTYPE=image/png:https://geloofindezaak.org/wp-content/uploads/2023/10/uitnodiging-januari-2024.png
ORGANIZER;CN="Deborah Vroegop":MAILTO:info@geloofindezaak.org
END:VEVENT
END:VCALENDAR