BEGIN:VCALENDAR
VERSION:2.0
PRODID:-//Geloof in de Zaak - ECPv6.15.18//NONSGML v1.0//EN
CALSCALE:GREGORIAN
METHOD:PUBLISH
X-ORIGINAL-URL:https://geloofindezaak.org
X-WR-CALDESC:Evenementen voor Geloof in de Zaak
REFRESH-INTERVAL;VALUE=DURATION:PT1H
X-Robots-Tag:noindex
X-PUBLISHED-TTL:PT1H
BEGIN:VTIMEZONE
TZID:Europe/Amsterdam
BEGIN:DAYLIGHT
TZOFFSETFROM:+0100
TZOFFSETTO:+0200
TZNAME:CEST
DTSTART:20240331T010000
END:DAYLIGHT
BEGIN:STANDARD
TZOFFSETFROM:+0200
TZOFFSETTO:+0100
TZNAME:CET
DTSTART:20241027T010000
END:STANDARD
BEGIN:DAYLIGHT
TZOFFSETFROM:+0100
TZOFFSETTO:+0200
TZNAME:CEST
DTSTART:20250330T010000
END:DAYLIGHT
BEGIN:STANDARD
TZOFFSETFROM:+0200
TZOFFSETTO:+0100
TZNAME:CET
DTSTART:20251026T010000
END:STANDARD
BEGIN:DAYLIGHT
TZOFFSETFROM:+0100
TZOFFSETTO:+0200
TZNAME:CEST
DTSTART:20260329T010000
END:DAYLIGHT
BEGIN:STANDARD
TZOFFSETFROM:+0200
TZOFFSETTO:+0100
TZNAME:CET
DTSTART:20261025T010000
END:STANDARD
END:VTIMEZONE
BEGIN:VEVENT
DTSTART;TZID=Europe/Amsterdam:20250411T073000
DTEND;TZID=Europe/Amsterdam:20250411T100000
DTSTAMP:20260422T002751
CREATED:20250312T134937Z
LAST-MODIFIED:20250325T102316Z
UID:1218-1744356600-1744365600@geloofindezaak.org
SUMMARY:Netwerkbijeenkomst | 11 april 2025 met Deborah Vroegop
DESCRIPTION:Deborah is de oprichter van het christelijke ondernemersnetwerk Geloof in de Zaak.  \nZe runt een b&b @deborahshidingplace \, is christelijke coach in haar coachpraktijk www.deborahvroegop.nl\, met als specialisaties Transformational Prayer Ministry (TPM) en narcisme (NPS) en spreekt regelmatig in haar kerk. \n  \nDeze ochtend zal zij spreken over visie en hoe jij in Zijn visie voor jou kunt wandelen\, zonder te verdwalen in eigen kracht. Laat je inspireren en bemoedigen om te zaaien en op Hem te vertrouwen voor de groei! \n  \nGeef je op via info@geloofindezaak.org \n  \nIntroducees gratis!
URL:https://geloofindezaak.org/event/geloof-in-de-zaak-netwerkbijeenkomst-met-stephan-barendse/
CATEGORIES:Netwerkbijeenkomsten Heerhugowaard
ATTACH;FMTTYPE=image/png:https://geloofindezaak.org/wp-content/uploads/2025/03/uitnodiging-april-2025-1.png
ORGANIZER;CN="Deborah Vroegop":MAILTO:info@geloofindezaak.org
END:VEVENT
END:VCALENDAR