BEGIN:VCALENDAR
VERSION:2.0
PRODID:-//Geloof in de Zaak - ECPv6.15.18//NONSGML v1.0//EN
CALSCALE:GREGORIAN
METHOD:PUBLISH
X-WR-CALNAME:Geloof in de Zaak
X-ORIGINAL-URL:https://geloofindezaak.org
X-WR-CALDESC:Evenementen voor Geloof in de Zaak
REFRESH-INTERVAL;VALUE=DURATION:PT1H
X-Robots-Tag:noindex
X-PUBLISHED-TTL:PT1H
BEGIN:VTIMEZONE
TZID:Europe/Amsterdam
BEGIN:DAYLIGHT
TZOFFSETFROM:+0100
TZOFFSETTO:+0200
TZNAME:CEST
DTSTART:20230326T010000
END:DAYLIGHT
BEGIN:STANDARD
TZOFFSETFROM:+0200
TZOFFSETTO:+0100
TZNAME:CET
DTSTART:20231029T010000
END:STANDARD
BEGIN:DAYLIGHT
TZOFFSETFROM:+0100
TZOFFSETTO:+0200
TZNAME:CEST
DTSTART:20240331T010000
END:DAYLIGHT
BEGIN:STANDARD
TZOFFSETFROM:+0200
TZOFFSETTO:+0100
TZNAME:CET
DTSTART:20241027T010000
END:STANDARD
BEGIN:DAYLIGHT
TZOFFSETFROM:+0100
TZOFFSETTO:+0200
TZNAME:CEST
DTSTART:20250330T010000
END:DAYLIGHT
BEGIN:STANDARD
TZOFFSETFROM:+0200
TZOFFSETTO:+0100
TZNAME:CET
DTSTART:20251026T010000
END:STANDARD
END:VTIMEZONE
BEGIN:VEVENT
DTSTART;TZID=Europe/Amsterdam:20240419T073000
DTEND;TZID=Europe/Amsterdam:20240419T100000
DTSTAMP:20260423T002934
CREATED:20231005T151256Z
LAST-MODIFIED:20240329T094113Z
UID:973-1713511800-1713520800@geloofindezaak.org
SUMMARY:Netwerkbijeenkomst | 19 april met Jack Dekker
DESCRIPTION:Uitnodiging voor april met een ondernemer uit ons netwerk: Jack Dekker. \nJack heeft veel voor zijn kiezen gekregen\, waaronder het overlijden van zijn zoon\, maar blijft op God vertrouwen. \nKom om geïnspireerd\, versterkt en bemoedigd te worden!
URL:https://geloofindezaak.org/event/netwerkbijeenkomst-19-april/
CATEGORIES:Netwerkbijeenkomsten Heerhugowaard
ATTACH;FMTTYPE=image/png:https://geloofindezaak.org/wp-content/uploads/2023/10/uitnodiging-april-2024-2.png
ORGANIZER;CN="Deborah Vroegop":MAILTO:info@geloofindezaak.org
END:VEVENT
END:VCALENDAR