BEGIN:VCALENDAR
VERSION:2.0
PRODID:-//Geloof in de Zaak - ECPv6.15.18//NONSGML v1.0//EN
CALSCALE:GREGORIAN
METHOD:PUBLISH
X-ORIGINAL-URL:https://geloofindezaak.org
X-WR-CALDESC:Evenementen voor Geloof in de Zaak
REFRESH-INTERVAL;VALUE=DURATION:PT1H
X-Robots-Tag:noindex
X-PUBLISHED-TTL:PT1H
BEGIN:VTIMEZONE
TZID:Europe/Amsterdam
BEGIN:DAYLIGHT
TZOFFSETFROM:+0100
TZOFFSETTO:+0200
TZNAME:CEST
DTSTART:20220327T010000
END:DAYLIGHT
BEGIN:STANDARD
TZOFFSETFROM:+0200
TZOFFSETTO:+0100
TZNAME:CET
DTSTART:20221030T010000
END:STANDARD
BEGIN:DAYLIGHT
TZOFFSETFROM:+0100
TZOFFSETTO:+0200
TZNAME:CEST
DTSTART:20230326T010000
END:DAYLIGHT
BEGIN:STANDARD
TZOFFSETFROM:+0200
TZOFFSETTO:+0100
TZNAME:CET
DTSTART:20231029T010000
END:STANDARD
BEGIN:DAYLIGHT
TZOFFSETFROM:+0100
TZOFFSETTO:+0200
TZNAME:CEST
DTSTART:20240331T010000
END:DAYLIGHT
BEGIN:STANDARD
TZOFFSETFROM:+0200
TZOFFSETTO:+0100
TZNAME:CET
DTSTART:20241027T010000
END:STANDARD
END:VTIMEZONE
BEGIN:VEVENT
DTSTART;TZID=Europe/Amsterdam:20231215T073000
DTEND;TZID=Europe/Amsterdam:20231215T100000
DTSTAMP:20260423T063259
CREATED:20231005T150833Z
LAST-MODIFIED:20231202T155510Z
UID:965-1702625400-1702634400@geloofindezaak.org
SUMMARY:Netwerkbijeenkomst | 15 december met Wim Kater
DESCRIPTION:Wim begeleidt en coacht ondernemers en leiders vanuit een geïntegreerd perspectief middels zijn bedrijf Integrated Business. Met decennialange ervaring en kennis als directeur\, visionair leider\, raadgever en mentor helpt Wim ondernemers die een stap willen zetten\, privé of zakelijk worstelen\, vastlopen of gewoon eens een stevige sparringpartner met visie kunnen gebruiken. Daarnaast houdt hij zich bezig met interim directievoering. \nDeze ochtend spreekt Wim over ‘God is in the detail’. Wellicht heb je de uitdrukking weleens gehoord: ‘The devil is in the detail’. Dát is dus niet waar. God is in detail betrokken op heel je leven. Wat betekent dit voor je onderneming? \n#geloofindezaak #christelijkondernemen #christelijkondernemersnetwerk #christelijkondernemersontbijt #gidz #wimkater #godisinthedetail #koninklijkondernemen #integratedbusiness
URL:https://geloofindezaak.org/event/netwerkbijeenkomst-15-december-met-wim-kater/
CATEGORIES:Netwerkbijeenkomsten Heerhugowaard
ATTACH;FMTTYPE=image/png:https://geloofindezaak.org/wp-content/uploads/2023/10/uitnodiging-december-2023-2.png
ORGANIZER;CN="Deborah Vroegop":MAILTO:info@geloofindezaak.org
END:VEVENT
END:VCALENDAR