BEGIN:VCALENDAR
VERSION:2.0
PRODID:-//Geloof in de Zaak - ECPv6.15.18//NONSGML v1.0//EN
CALSCALE:GREGORIAN
METHOD:PUBLISH
X-ORIGINAL-URL:https://geloofindezaak.org
X-WR-CALDESC:Evenementen voor Geloof in de Zaak
REFRESH-INTERVAL;VALUE=DURATION:PT1H
X-Robots-Tag:noindex
X-PUBLISHED-TTL:PT1H
BEGIN:VTIMEZONE
TZID:Europe/Amsterdam
BEGIN:DAYLIGHT
TZOFFSETFROM:+0100
TZOFFSETTO:+0200
TZNAME:CEST
DTSTART:20220327T010000
END:DAYLIGHT
BEGIN:STANDARD
TZOFFSETFROM:+0200
TZOFFSETTO:+0100
TZNAME:CET
DTSTART:20221030T010000
END:STANDARD
BEGIN:DAYLIGHT
TZOFFSETFROM:+0100
TZOFFSETTO:+0200
TZNAME:CEST
DTSTART:20230326T010000
END:DAYLIGHT
BEGIN:STANDARD
TZOFFSETFROM:+0200
TZOFFSETTO:+0100
TZNAME:CET
DTSTART:20231029T010000
END:STANDARD
BEGIN:DAYLIGHT
TZOFFSETFROM:+0100
TZOFFSETTO:+0200
TZNAME:CEST
DTSTART:20240331T010000
END:DAYLIGHT
BEGIN:STANDARD
TZOFFSETFROM:+0200
TZOFFSETTO:+0100
TZNAME:CET
DTSTART:20241027T010000
END:STANDARD
END:VTIMEZONE
BEGIN:VEVENT
DTSTART;TZID=Europe/Amsterdam:20230421T073000
DTEND;TZID=Europe/Amsterdam:20230421T100000
DTSTAMP:20260424T001214
CREATED:20230625T140542Z
LAST-MODIFIED:20231005T152259Z
UID:940-1682062200-1682071200@geloofindezaak.org
SUMMARY:Netwerkbijeenkomst | 21 april met Alrik Vos
DESCRIPTION:21 april netwerkontbijt voor ondernemers met Alrik Vos. Zorg dat je erbij bent!
URL:https://geloofindezaak.org/event/netwerkbijeenkomst-28-juni/
CATEGORIES:Netwerkbijeenkomsten Heerhugowaard
ATTACH;FMTTYPE=image/png:https://geloofindezaak.org/wp-content/uploads/2023/06/uitnodiging-april-2023.png
END:VEVENT
END:VCALENDAR